View In:
ArcGIS JavaScript
ArcGIS Online Map Viewer
ArcGIS Earth
Service Description: Dit bestand toont de berekende geluidsbelasting voor heel Nederland, op een resolutie van 10 meter. Het gaat hier om het gemiddelde geluidsniveau per jaar van wegverkeer, treinverkeer, vliegtuigen, industrie en windturbines (gecumuleerd, Lcum)
Name: BasisdataExtern/MIL_GELUID_RIVM_LCUM_2022
Description: Dit bestand toont de berekende geluidsbelasting voor heel Nederland, op een resolutie van 10 meter. Het gaat hier om het gemiddelde geluidsniveau per jaar van wegverkeer, treinverkeer, vliegtuigen, industrie en windturbines (gecumuleerd, Lcum)
Single Fused Map Cache: false
Extent:
XMin: 206910.0
YMin: 540340.0
XMax: 278000.0
YMax: 619000.0
Spatial Reference: 28992
(28992)
LatestVCSWkid(0)
Initial Extent:
XMin: 206910.0
YMin: 540340.0
XMax: 278000.0
YMax: 619000.0
Spatial Reference: 28992
(28992)
LatestVCSWkid(0)
Full Extent:
XMin: 206910.0
YMin: 540340.0
XMax: 278000.0
YMax: 619000.0
Spatial Reference: 28992
(28992)
LatestVCSWkid(0)
Pixel Size X: 10.0
Pixel Size Y: 10.0
Band Count: 1
Pixel Type: S16
RasterFunction Infos: {"rasterFunctionInfos": [{
"name": "None",
"description": "",
"help": ""
}]}
Mensuration Capabilities: Basic
Inspection Capabilities:
Has Histograms: true
Has Colormap: false
Has Multi Dimensions : false
Rendering Rule:
Min Scale: 0
Max Scale: 0
Resampling: false
Copyright Text:
Service Data Type: esriImageServiceDataTypeGeneric
Min Values: 8
Max Values: 83
Mean Values: 37.65582216068555
Standard Deviation Values: 15.007344187203314
Object ID Field:
Fields:
None
Default Mosaic Method: Center
Allowed Mosaic Methods:
SortField:
SortValue: null
Mosaic Operator: First
Default Compression Quality: 75
Default Resampling Method: Bilinear
Max Record Count: null
Max Image Height: 4100
Max Image Width: 15000
Max Download Image Count: null
Max Mosaic Image Count: null
Allow Raster Function: true
Allow Copy: true
Allow Analysis: true
Allow Compute TiePoints: false
Supports Statistics: false
Supports Advanced Queries: false
Use StandardizedQueries: true
Raster Type Infos:
Name: Raster Dataset
Description: Supports all ArcGIS Raster Datasets
Help:
Has Raster Attribute Table: false
Edit Fields Info: null
Ownership Based AccessControl For Rasters: null
Child Resources:
Info
Histograms
Statistics
Key Properties
Legend
Raster Function Infos
Supported Operations:
Export Image
Identify
Measure
Compute Histograms
Compute Statistics Histograms
Get Samples
Compute Class Statistics
Query Boundary
Compute Pixel Location
Compute Angles
Validate
Project