Dit bestand toont de berekende geluidsbelasting voor heel Nederland, op een resolutie van 10 meter. Het gaat hier om het gemiddelde geluidsniveau per jaar van wegverkeer, treinverkeer, vliegtuigen, industrie en windturbines (gecumuleerd, Lcum)<\/span><\/p><\/div><\/div><\/div>",
"serviceItemId": "185109de5da944aa987fa63cb23b4a48",
"name": "BasisdataExtern/MIL_GELUID_RIVM_LCUM_2022",
"description": "Dit bestand toont de berekende geluidsbelasting voor heel Nederland, op een resolutie van 10 meter. Het gaat hier om het gemiddelde geluidsniveau per jaar van wegverkeer, treinverkeer, vliegtuigen, industrie en windturbines (gecumuleerd, Lcum)<\/span><\/p><\/div><\/div><\/div>",
"extent": {
"xmin": 206910,
"ymin": 540340,
"xmax": 278000,
"ymax": 619000,
"spatialReference": {
"wkid": 28992,
"latestWkid": 28992
}
},
"initialExtent": {
"xmin": 206910,
"ymin": 540340,
"xmax": 278000,
"ymax": 619000,
"spatialReference": {
"wkid": 28992,
"latestWkid": 28992
}
},
"fullExtent": {
"xmin": 206910,
"ymin": 540340,
"xmax": 278000,
"ymax": 619000,
"spatialReference": {
"wkid": 28992,
"latestWkid": 28992
}
},
"sortableFields": "",
"bandCount": 1,
"pixelType": "S16",
"minValues": [
8
],
"maxValues": [
83
],
"meanValues": [
37.65582216068555
],
"stdvValues": [
15.007344187203314
],
"serviceProperties": "Center<\/MosaicMethod>First<\/MosaicOperator>true<\/SortAscending><\/LockImageID><\/TileOrderField>0<\/TileOrderBase>0,000000<\/AvgImageSpacingX>0,000000<\/AvgImageSpacingY>0.0<\/ViewPointX>0.0<\/ViewPointY>0.0<\/ViewPointDefShiftX>0.0<\/ViewPointDefShiftY>None<\/CompressionMethod>75<\/CompressionQuality>0,010000<\/CompressionTolerance>Bilinear<\/SamplingMethod><\/ImageServiceProperties><\/ImageServer>",
"allowedFields": "",
"hasMultidimensions": false,
"pixelSizeX": 10,
"pixelSizeY": 10,
"meanPixelSize": 10,
"datasetFormat": "SDR",
"uncompressedSize": 111838788,
"blockWidth": 128,
"blockHeight": 128,
"compressionType": "LZ77",
"bandNames": [
"Band_1"
],
"allowCopy": true,
"allowAnalysis": true,
"itemAccess": false,
"inspectionCapabilities": "",
"minPixelSize": 0,
"maxPixelSize": 0,
"copyrightText": "",
"serviceDataType": "esriImageServiceDataTypeGeneric",
"serviceSourceType": "esriImageServiceSourceTypeDataset",
"objectIdField": "",
"fields": [],
"capabilities": "Mensuration,Image,Metadata",
"defaultMosaicMethod": "Center",
"allowedMosaicMethods": "",
"sortField": "",
"sortValue": null,
"sortAscending": true,
"mosaicOperator": "First",
"defaultCompressionQuality": 75,
"defaultResamplingMethod": "Bilinear",
"maxImageHeight": 4100,
"maxImageWidth": 15000,
"allowRasterFunction": true,
"rasterFunctionInfos": [
{
"name": "None",
"description": "",
"help": ""
}
],
"rasterTypeInfos": [
{
"name": "Raster Dataset",
"description": "Supports all ArcGIS Raster Datasets",
"help": ""
}
],
"mensurationCapabilities": "Basic",
"hasHistograms": true,
"hasColormap": false,
"hasRasterAttributeTable": false,
"minScale": 0,
"maxScale": 0,
"exportTilesAllowed": false,
"supportsStatistics": false,
"supportsAdvancedQueries": false,
"editFieldsInfo": null,
"ownershipBasedAccessControlForRasters": null,
"allowComputeTiePoints": false,
"useStandardizedQueries": true,
"advancedQueryCapabilities": {
"useStandardizedQueries": true,
"supportsStatistics": false,
"supportsOrderBy": false,
"supportsDistinct": false,
"supportsPagination": false
},
"spatialReference": {
"wkid": 28992,
"latestWkid": 28992
},
"resampling": false
}