View In:
ArcGIS JavaScript
ArcGIS Online Map Viewer
ArcGIS Earth
Service Description: Project/RIVM_LICHT_EMISSIE_2022
Name: Project/RIVM_LICHT_EMISSIE_2022
Description:
Single Fused Map Cache: false
Extent:
XMin: -117553.53357508458
YMin: 193983.33651111624
XMax: 405389.5325005608
YMax: 731942.7146061627
Spatial Reference: 28992
(28992)
Initial Extent:
XMin: -117553.53357508458
YMin: 193983.33651111624
XMax: 405389.5325005608
YMax: 731942.7146061627
Spatial Reference: 28992
(28992)
Full Extent:
XMin: -117553.53357508458
YMin: 193983.33651111624
XMax: 405389.5325005608
YMax: 731942.7146061627
Spatial Reference: 28992
(28992)
Pixel Size X: 375.407800485029
Pixel Size Y: 375.407800485029
Band Count: 1
Pixel Type: F32
RasterFunction Infos: {"rasterFunctionInfos": [{
"name": "None",
"description": "",
"help": ""
}]}
Mensuration Capabilities: Basic
Inspection Capabilities:
Has Histograms: true
Has Colormap: false
Has Multi Dimensions : false
Rendering Rule:
Min Scale: 0
Max Scale: 0
Resampling: false
Copyright Text:
Service Data Type: esriImageServiceDataTypeGeneric
Min Values: 2.58892560005188
Max Values: 45514.140625
Mean Values: 22.2488545128404
Standard Deviation Values: 113.0001094438793
Object ID Field:
Fields:
None
Default Mosaic Method: Center
Allowed Mosaic Methods:
SortField:
SortValue: null
Mosaic Operator: First
Default Compression Quality: 75
Default Resampling Method: Bilinear
Max Record Count: null
Max Image Height: 4100
Max Image Width: 15000
Max Download Image Count: null
Max Mosaic Image Count: null
Allow Raster Function: true
Allow Copy: true
Allow Analysis: true
Allow Compute TiePoints: false
Supports Statistics: false
Supports Advanced Queries: false
Use StandardizedQueries: true
Raster Type Infos:
Name: Raster Dataset
Description: Supports all ArcGIS Raster Datasets
Help:
Has Raster Attribute Table: false
Edit Fields Info: null
Ownership Based AccessControl For Rasters: null
Child Resources:
Info
Histograms
Statistics
Key Properties
Legend
Raster Function Infos
Supported Operations:
Export Image
Identify
Measure
Compute Histograms
Compute Statistics Histograms
Get Samples
Compute Class Statistics
Query Boundary
Compute Pixel Location
Compute Angles
Validate
Project