{
 "currentVersion": 11.3,
 "serviceDescription": "Project/RIVM_LICHT_EMISSIE_2022",
 "name": "Project/RIVM_LICHT_EMISSIE_2022",
 "description": "",
 "extent": {
  "xmin": -117553.53357508458,
  "ymin": 193983.33651111624,
  "xmax": 405389.5325005608,
  "ymax": 731942.7146061627,
  "spatialReference": {
   "wkid": 28992,
   "latestWkid": 28992
  }
 },
 "initialExtent": {
  "xmin": -117553.53357508458,
  "ymin": 193983.33651111624,
  "xmax": 405389.5325005608,
  "ymax": 731942.7146061627,
  "spatialReference": {
   "wkid": 28992,
   "latestWkid": 28992
  }
 },
 "fullExtent": {
  "xmin": -117553.53357508458,
  "ymin": 193983.33651111624,
  "xmax": 405389.5325005608,
  "ymax": 731942.7146061627,
  "spatialReference": {
   "wkid": 28992,
   "latestWkid": 28992
  }
 },
 "sortableFields": "",
 "bandCount": 1,
 "pixelType": "F32",
 "minValues": [
  2.58892560005188
 ],
 "maxValues": [
  45514.140625
 ],
 "meanValues": [
  22.2488545128404
 ],
 "stdvValues": [
  113.0001094438793
 ],
 "hasMultidimensions": false,
 "pixelSizeX": 375.407800485029,
 "pixelSizeY": 375.407800485029,
 "meanPixelSize": 375.407800485029,
 "datasetFormat": "SDR",
 "uncompressedSize": 7984676,
 "blockWidth": 128,
 "blockHeight": 128,
 "compressionType": "LZ77",
 "bandNames": [
  "Band_1"
 ],
 "allowCopy": true,
 "allowAnalysis": true,
 "itemAccess": false,
 "inspectionCapabilities": "",
 "minPixelSize": 0,
 "maxPixelSize": 0,
 "copyrightText": "",
 "serviceDataType": "esriImageServiceDataTypeGeneric",
 "serviceSourceType": "esriImageServiceSourceTypeDataset",
 "objectIdField": "",
 "fields": [],
 "capabilities": "Image,Metadata,Mensuration",
 "defaultMosaicMethod": "Center",
 "allowedMosaicMethods": "",
 "sortField": "",
 "sortValue": null,
 "sortAscending": true,
 "mosaicOperator": "First",
 "defaultCompressionQuality": 75,
 "defaultResamplingMethod": "Bilinear",
 "maxImageHeight": 4100,
 "maxImageWidth": 15000,
 "allowRasterFunction": true,
 "rasterFunctionInfos": [
  {
   "name": "None",
   "description": "",
   "help": ""
  }
 ],
 "rasterTypeInfos": [
  {
   "name": "Raster Dataset",
   "description": "Supports all ArcGIS Raster Datasets",
   "help": ""
  }
 ],
 "mensurationCapabilities": "Basic",
 "hasHistograms": true,
 "hasColormap": false,
 "hasRasterAttributeTable": false,
 "minScale": 0,
 "maxScale": 0,
 "exportTilesAllowed": false,
 "supportsStatistics": false,
 "supportsAdvancedQueries": false,
 "editFieldsInfo": null,
 "ownershipBasedAccessControlForRasters": null,
 "allowComputeTiePoints": false,
 "useStandardizedQueries": true,
 "advancedQueryCapabilities": {
  "useStandardizedQueries": true,
  "supportsStatistics": false,
  "supportsOrderBy": false,
  "supportsDistinct": false,
  "supportsPagination": false
 },
 "spatialReference": {
  "wkid": 28992,
  "latestWkid": 28992
 }
}
