{
 "currentVersion": 11.2,
 "serviceDescription": "Project/GELUID_RIVM_LCUM_2020",
 "name": "Project/GELUID_RIVM_LCUM_2020",
 "description": "",
 "extent": {
  "xmin": 206910,
  "ymin": 540340,
  "xmax": 278000,
  "ymax": 619000,
  "spatialReference": {
   "wkid": 28992,
   "latestWkid": 28992
  }
 },
 "initialExtent": {
  "xmin": 206910,
  "ymin": 540340,
  "xmax": 278000,
  "ymax": 619000,
  "spatialReference": {
   "wkid": 28992,
   "latestWkid": 28992
  }
 },
 "fullExtent": {
  "xmin": 206910,
  "ymin": 540340,
  "xmax": 278000,
  "ymax": 619000,
  "spatialReference": {
   "wkid": 28992,
   "latestWkid": 28992
  }
 },
 "sortableFields": "",
 "bandCount": 1,
 "pixelType": "S8",
 "minValues": [
  0
 ],
 "maxValues": [
  84
 ],
 "meanValues": [
  35.734077474507856
 ],
 "stdvValues": [
  17.44517510458407
 ],
 "hasMultidimensions": false,
 "pixelSizeX": 10,
 "pixelSizeY": 10,
 "meanPixelSize": 10,
 "datasetFormat": "SDR",
 "uncompressedSize": 55919394,
 "blockWidth": 128,
 "blockHeight": 128,
 "compressionType": "LZ77",
 "bandNames": [
  "Band_1"
 ],
 "allowCopy": true,
 "allowAnalysis": true,
 "itemAccess": false,
 "inspectionCapabilities": "",
 "minPixelSize": 0,
 "maxPixelSize": 0,
 "copyrightText": "",
 "serviceDataType": "esriImageServiceDataTypeThematic",
 "serviceSourceType": "esriImageServiceSourceTypeDataset",
 "objectIdField": "",
 "fields": [],
 "capabilities": "Image,Metadata,Mensuration",
 "defaultMosaicMethod": "Center",
 "allowedMosaicMethods": "",
 "sortField": "",
 "sortValue": null,
 "sortAscending": true,
 "mosaicOperator": "First",
 "defaultCompressionQuality": 75,
 "defaultResamplingMethod": "Bilinear",
 "maxImageHeight": 4100,
 "maxImageWidth": 15000,
 "allowRasterFunction": true,
 "rasterFunctionInfos": [
  {
   "name": "None",
   "description": "",
   "help": ""
  }
 ],
 "rasterTypeInfos": [
  {
   "name": "Raster Dataset",
   "description": "Supports all ArcGIS Raster Datasets",
   "help": ""
  }
 ],
 "mensurationCapabilities": "Basic",
 "hasHistograms": true,
 "hasColormap": false,
 "hasRasterAttributeTable": false,
 "minScale": 0,
 "maxScale": 0,
 "exportTilesAllowed": false,
 "supportsStatistics": false,
 "supportsAdvancedQueries": false,
 "editFieldsInfo": null,
 "ownershipBasedAccessControlForRasters": null,
 "allowComputeTiePoints": false,
 "useStandardizedQueries": true,
 "advancedQueryCapabilities": {
  "useStandardizedQueries": true,
  "supportsStatistics": false,
  "supportsOrderBy": false,
  "supportsDistinct": false,
  "supportsPagination": false
 },
 "spatialReference": {
  "wkid": 28992,
  "latestWkid": 28992
 }
}
