{ "currentVersion": 11.3, "serviceDescription": "
PM10- Fijnstof concentratie in microgram/m3<\/span><\/p><\/div><\/div><\/div>",
"name": "Milieu/LuchtFijnstofPM10_2020",
"description": " PM10- Fijnstof concentratie in microgram/m3<\/span><\/p><\/div><\/div><\/div>",
"extent": {
"xmin": 206911.6000000015,
"ymin": 540347.1000000015,
"xmax": 277961.6000000015,
"ymax": 618522.1000000015,
"spatialReference": {
"wkid": 28992,
"latestWkid": 28992
}
},
"initialExtent": {
"xmin": 206911.6000000015,
"ymin": 540347.1000000015,
"xmax": 277961.6000000015,
"ymax": 618522.1000000015,
"spatialReference": {
"wkid": 28992,
"latestWkid": 28992
}
},
"fullExtent": {
"xmin": 206911.6000000015,
"ymin": 540347.1000000015,
"xmax": 277961.6000000015,
"ymax": 618522.1000000015,
"spatialReference": {
"wkid": 28992,
"latestWkid": 28992
}
},
"sortableFields": "",
"bandCount": 1,
"pixelType": "F32",
"minValues": [
12.397088050842285
],
"maxValues": [
18.933780670166016
],
"meanValues": [
13.22702633128346
],
"stdvValues": [
0.33923747445857366
],
"hasMultidimensions": false,
"pixelSizeX": 25,
"pixelSizeY": 25,
"meanPixelSize": 25,
"datasetFormat": "SDR",
"uncompressedSize": 35547736,
"blockWidth": 128,
"blockHeight": 128,
"compressionType": "LZ77",
"bandNames": [
"Band_1"
],
"allowCopy": true,
"allowAnalysis": true,
"itemAccess": false,
"inspectionCapabilities": "",
"minPixelSize": 0,
"maxPixelSize": 0,
"copyrightText": "",
"serviceDataType": "esriImageServiceDataTypeGeneric",
"serviceSourceType": "esriImageServiceSourceTypeDataset",
"objectIdField": "",
"fields": [],
"capabilities": "Mensuration,Image,Metadata",
"defaultMosaicMethod": "Center",
"allowedMosaicMethods": "",
"sortField": "",
"sortValue": null,
"sortAscending": true,
"mosaicOperator": "First",
"defaultCompressionQuality": 75,
"defaultResamplingMethod": "Bilinear",
"maxImageHeight": 4100,
"maxImageWidth": 15000,
"allowRasterFunction": true,
"rasterFunctionInfos": [
{
"name": "None",
"description": "",
"help": ""
}
],
"rasterTypeInfos": [
{
"name": "Raster Dataset",
"description": "Supports all ArcGIS Raster Datasets",
"help": ""
}
],
"mensurationCapabilities": "Basic",
"hasHistograms": true,
"hasColormap": false,
"hasRasterAttributeTable": false,
"minScale": 0,
"maxScale": 0,
"exportTilesAllowed": false,
"supportsStatistics": false,
"supportsAdvancedQueries": false,
"editFieldsInfo": null,
"ownershipBasedAccessControlForRasters": null,
"allowComputeTiePoints": false,
"useStandardizedQueries": true,
"advancedQueryCapabilities": {
"useStandardizedQueries": true,
"supportsStatistics": false,
"supportsOrderBy": false,
"supportsDistinct": false,
"supportsPagination": false
},
"spatialReference": {
"wkid": 28992,
"latestWkid": 28992
},
"resampling": false
}