View In:
ArcGIS JavaScript
ArcGIS Online Map Viewer
ArcGIS Earth
ArcMap
View Footprint In:
ArcGIS Online Map Viewer
Service Description: Milieu/INFO_GES_LUCHT_PM10_RASTER
Name: Milieu/INFO_GES_LUCHT_PM10_RASTER
Description:
Single Fused Map Cache: false
Extent:
XMin: 206911.6000000015
YMin: 540347.1000000015
XMax: 277961.6000000015
YMax: 618522.1000000015
Spatial Reference: 28992
(28992)
Initial Extent:
XMin: 206911.6000000015
YMin: 540347.1000000015
XMax: 277961.6000000015
YMax: 618522.1000000015
Spatial Reference: 28992
(28992)
Full Extent:
XMin: 206911.6000000015
YMin: 540347.1000000015
XMax: 277961.6000000015
YMax: 618522.1000000015
Spatial Reference: 28992
(28992)
Pixel Size X: 25.0
Pixel Size Y: 25.0
Band Count: 1
Pixel Type: F32
RasterFunction Infos: {"rasterFunctionInfos": [{
"name": "None",
"description": "",
"help": ""
}]}
Mensuration Capabilities: Basic
Has Histograms: true
Has Colormap: false
Has Multi Dimensions : false
Rendering Rule:
Min Scale: 0
Max Scale: 0
Copyright Text:
Service Data Type: esriImageServiceDataTypeGeneric
Min Values: 12.583550453186035
Max Values: 23.509822845458984
Mean Values: 14.476426756522274
Standard Deviation Values: 0.3509566076153547
Object ID Field:
Fields:
None
Default Mosaic Method: Center
Allowed Mosaic Methods:
SortField:
SortValue: null
Mosaic Operator: First
Default Compression Quality: 75
Default Resampling Method: Bilinear
Max Record Count: null
Max Image Height: 4100
Max Image Width: 15000
Max Download Image Count: null
Max Mosaic Image Count: null
Allow Raster Function: true
Allow Copy: true
Allow Analysis: true
Allow Compute TiePoints: false
Supports Statistics: false
Supports Advanced Queries: false
Use StandardizedQueries: true
Raster Type Infos:
Name: Raster Dataset
Description: Supports all ArcGIS Raster Datasets
Help:
Has Raster Attribute Table: false
Edit Fields Info: null
Ownership Based AccessControl For Rasters: null
Child Resources:
Info
Histograms
Statistics
Key Properties
Legend
Raster Function Infos
Supported Operations:
Export Image
Identify
Measure
Compute Histograms
Compute Statistics Histograms
Get Samples
Compute Class Statistics
Query Boundary
Compute Pixel Location
Compute Angles
Validate
Project