<?xml version="1.0" encoding="UTF-8" standalone="no"?>
<metadata xml:lang="nl">
<Esri>
<CreaDate>20260402</CreaDate>
<CreaTime>11433400</CreaTime>
<ArcGISFormat>1.0</ArcGISFormat>
<SyncOnce>FALSE</SyncOnce>
<DataProperties>
<itemProps>
<itemName Sync="TRUE">MIL_GELUID_RIVM_LCUM_2022</itemName>
<nativeExtBox>
<westBL Sync="TRUE">206910.000000</westBL>
<eastBL Sync="TRUE">278000.000000</eastBL>
<southBL Sync="TRUE">540340.000000</southBL>
<northBL Sync="TRUE">619000.000000</northBL>
<exTypeCode Sync="TRUE">1</exTypeCode>
</nativeExtBox>
<itemLocation>
<linkage Sync="TRUE">file://\\provinciegroningen.nl\data\Geo\Milieu\Gezondheidskaart\Geluid\UpdateVersie2022\DataUpdateVersie2022.gdb</linkage>
<protocol Sync="TRUE">Local Area Network</protocol>
</itemLocation>
<imsContentType Sync="TRUE" export="False">002</imsContentType>
</itemProps>
<coordRef>
<type Sync="TRUE">Projected</type>
<geogcsn Sync="TRUE">GCS_Amersfoort</geogcsn>
<csUnits Sync="TRUE">Linear Unit: Meter (1.000000)</csUnits>
<projcsn Sync="TRUE">RD_New</projcsn>
<peXml Sync="TRUE">&lt;ProjectedCoordinateSystem xsi:type='typens:ProjectedCoordinateSystem' xmlns:xsi='http://www.w3.org/2001/XMLSchema-instance' xmlns:xs='http://www.w3.org/2001/XMLSchema' xmlns:typens='http://www.esri.com/schemas/ArcGIS/3.3.0'&gt;&lt;WKT&gt;PROJCS[&amp;quot;RD_New&amp;quot;,GEOGCS[&amp;quot;GCS_Amersfoort&amp;quot;,DATUM[&amp;quot;D_Amersfoort&amp;quot;,SPHEROID[&amp;quot;Bessel_1841&amp;quot;,6377397.155,299.1528128]],PRIMEM[&amp;quot;Greenwich&amp;quot;,0.0],UNIT[&amp;quot;Degree&amp;quot;,0.0174532925199433]],PROJECTION[&amp;quot;Double_Stereographic&amp;quot;],PARAMETER[&amp;quot;False_Easting&amp;quot;,155000.0],PARAMETER[&amp;quot;False_Northing&amp;quot;,463000.0],PARAMETER[&amp;quot;Central_Meridian&amp;quot;,5.38763888888889],PARAMETER[&amp;quot;Scale_Factor&amp;quot;,0.9999079],PARAMETER[&amp;quot;Latitude_Of_Origin&amp;quot;,52.15616055555555],UNIT[&amp;quot;Meter&amp;quot;,1.0],AUTHORITY[&amp;quot;EPSG&amp;quot;,28992]]&lt;/WKT&gt;&lt;XOrigin&gt;-30515500&lt;/XOrigin&gt;&lt;YOrigin&gt;-30279500&lt;/YOrigin&gt;&lt;XYScale&gt;146716411.36275291&lt;/XYScale&gt;&lt;ZOrigin&gt;-100000&lt;/ZOrigin&gt;&lt;ZScale&gt;10000&lt;/ZScale&gt;&lt;MOrigin&gt;-100000&lt;/MOrigin&gt;&lt;MScale&gt;10000&lt;/MScale&gt;&lt;XYTolerance&gt;0.001&lt;/XYTolerance&gt;&lt;ZTolerance&gt;0.001&lt;/ZTolerance&gt;&lt;MTolerance&gt;0.001&lt;/MTolerance&gt;&lt;HighPrecision&gt;true&lt;/HighPrecision&gt;&lt;WKID&gt;28992&lt;/WKID&gt;&lt;LatestWKID&gt;28992&lt;/LatestWKID&gt;&lt;/ProjectedCoordinateSystem&gt;</peXml>
</coordRef>
</DataProperties>
<SyncDate>20260402</SyncDate>
<SyncTime>11545000</SyncTime>
<ModDate>20260402</ModDate>
<ModTime>11581900</ModTime>
<ArcGISProfile>ISO19139</ArcGISProfile>
</Esri>
<mdFileID>5b4bfaf7-cea9-4ce6-90f6-b23f2f37b618</mdFileID>
<mdLang>
<languageCode Sync="FALSE" value="dut"/>
<countryCode Sync="TRUE" value="NLD"/>
</mdLang>
<mdChar>
<CharSetCd value="004"/>
</mdChar>
<mdHrLv>
<ScopeCd Sync="TRUE" value="005"/>
</mdHrLv>
<mdHrLvName Sync="TRUE">dataset</mdHrLvName>
<mdContact>
<rpIndName>Datateam Beleid</rpIndName>
<rpOrgName>Provincie Groningen</rpOrgName>
<rpCntInfo>
<cntPhone>
<voiceNum tddtty="">050-3164911</voiceNum>
</cntPhone>
<cntAddress addressType="">
<delPoint>Sint Jansstraat 4</delPoint>
<city>Groningen</city>
<adminArea>Groningen</adminArea>
<postCode>9712 JN</postCode>
<country>NL</country>
<eMailAdd>geoportaal@provinciegroningen.nl</eMailAdd>
</cntAddress>
<cntOnlineRes>
<linkage>https://www.provinciegroningen.nl/</linkage>
</cntOnlineRes>
</rpCntInfo>
<role>
<RoleCd value="007"/>
</role>
<rpPosName>Geo-team</rpPosName>
<displayName>Provincie Groningen / Datateam Beleid</displayName>
</mdContact>
<mdDateSt Sync="TRUE">20260402</mdDateSt>
<mdStanName>ISO 19115</mdStanName>
<mdStanVer>Nederlands metadata profiel op ISO 19115 voor geografie 2.1.0</mdStanVer>
<distInfo>
<distFormat>
<formatName Sync="TRUE">File Geodatabase Raster Dataset</formatName>
</distFormat>
<distributor>
<distorCont>
<rpIndName>Datateam Beleid</rpIndName>
<rpOrgName>Provincie Groningen</rpOrgName>
<rpCntInfo>
<cntPhone>
<voiceNum tddtty="">050-3164911</voiceNum>
</cntPhone>
<cntAddress addressType="">
<delPoint>Sint Jansstraat 4</delPoint>
<city>Groningen</city>
<adminArea>Groningen</adminArea>
<postCode>9712 JN</postCode>
<country>NL</country>
<eMailAdd>geoportaal@provinciegroningen.nl</eMailAdd>
</cntAddress>
<cntOnlineRes>
<linkage>https://www.provinciegroningen.nl/</linkage>
</cntOnlineRes>
</rpCntInfo>
<role>
<RoleCd value="005"/>
</role>
<rpPosName>Geo-team</rpPosName>
<displayName>Provincie Groningen / Datateam Beleid</displayName>
</distorCont>
</distributor>
</distInfo>
<dataIdInfo>
<envirDesc Sync="TRUE">Microsoft Windows 10 Version 10.0 (Build 26100) ; Esri ArcGIS 13.3.4.52636</envirDesc>
<dataLang>
<languageCode Sync="FALSE" value="dut"/>
<countryCode Sync="TRUE" value="NLD"/>
</dataLang>
<idCitation>
<resTitle Sync="FALSE">MIL_GELUID_RIVM_LCUM_2022</resTitle>
<presForm>
<PresFormCd Sync="TRUE" value="011"/>
</presForm>
<citId uri="">
<identCode>b01f186e-c046-4dda-bc3b-a07ac024c29e</identCode>
</citId>
<date>
<createDate>20220101</createDate>
</date>
<resAltTitle>EXTERN.MIL_GELUID_RIVM_LCUM_2022</resAltTitle>
<resEd>2022</resEd>
</idCitation>
<spatRpType>
<SpatRepTypCd Sync="TRUE" value="002"/>
</spatRpType>
<dataChar>
<CharSetCd value="004"/>
</dataChar>
<dataScale>
<equScale>
<rfDenom>1000</rfDenom>
</equScale>
</dataScale>
<resConst>
<Consts>
<useLimit>&lt;div style='text-align:Left;'&gt;&lt;div&gt;&lt;div&gt;&lt;p&gt;&lt;span&gt;Geen gebruiksbeperkingen.&lt;/span&gt;&lt;/p&gt;&lt;/div&gt;&lt;/div&gt;&lt;/div&gt;</useLimit>
</Consts>
</resConst>
<idStatus>
<ProgCd value="001"/>
</idStatus>
<idPoC>
<rpIndName>Algemene Contactinformatie</rpIndName>
<rpOrgName>Rijksinstituut voor Volksgezondheid en Milieu (RIVM)</rpOrgName>
<rpCntInfo>
<cntAddress addressType="">
<delPoint>Antonie van Leeuwenhoeklaan 9</delPoint>
<city>Bilthoven</city>
<adminArea>Utrecht</adminArea>
<postCode>3721 MA</postCode>
<eMailAdd>info@rivm.nl</eMailAdd>
<country>NL</country>
</cntAddress>
<cntPhone>
<voiceNum tddtty="">088 689 8989</voiceNum>
</cntPhone>
<cntOnlineRes>
<linkage>https://www.rivm.nl/</linkage>
</cntOnlineRes>
</rpCntInfo>
<role>
<RoleCd value="003"/>
</role>
<displayName>Rijksinstituut voor Volksgezondheid en Milieu (RIVM) / Algemene Contactinformatie</displayName>
</idPoC>
<idAbs>&lt;div style='text-align:Left;'&gt;&lt;div&gt;&lt;div&gt;&lt;p&gt;&lt;span&gt;Dit bestand toont de berekende geluidsbelasting voor heel Nederland, op een resolutie van 10 meter. Het gaat hier om het gemiddelde geluidsniveau per jaar van wegverkeer, treinverkeer, vliegtuigen, industrie en windturbines (gecumuleerd, Lcum)&lt;/span&gt;&lt;/p&gt;&lt;/div&gt;&lt;/div&gt;&lt;/div&gt;</idAbs>
<idPurp>Deze dataset geeft een globaal beeld van geluidsbelasting in Nederland. De geluidklassen hebben betrekking op de gezamenlijke geluidbelasting in Lden (gemiddeld over een jaar) als veroorzaakt door:
- rijkswegen (2022)
- gemeentelijke en provinciale wegen (2022)
- railverkeer (2023)
- luchtvaart (2022)
- industrie (2024)
- windturbines (2025)
Bron is het RIVM</idPurp>
<otherKeys>
<thesaName>
<resTitle>Interprovinciale thesaurus</resTitle>
<date>
<pubDate>2019-07-06</pubDate>
</date>
</thesaName>
<keyword>MILIEUBELEID</keyword>
<keyword>MILIEUKWALITEIT</keyword>
<keyword>GELUID</keyword>
<keyword>GELUIDHINDER</keyword>
<keyword>SPOORLIJNEN</keyword>
<keyword>WEGEN</keyword>
</otherKeys>
<dataExt>
<geoEle>
<GeoBndBox>
<westBL>6.157743</westBL>
<eastBL>7.242671</eastBL>
<southBL>52.836277</southBL>
<northBL>53.554511</northBL>
</GeoBndBox>
</geoEle>
</dataExt>
<resConst>
<LegConsts>
<accessConsts>
<RestrictCd value="008"/>
</accessConsts>
<othConsts>Open data (publiek)|https://creativecommons.org/publicdomain/mark/1.0/deed.nl</othConsts>
</LegConsts>
</resConst>
<resMaint>
<maintFreq>
<MaintFreqCd value="012"/>
</maintFreq>
</resMaint>
<tpCat>
<TopicCatCd value="007"/>
</tpCat>
<tpCat>
<TopicCatCd value="009"/>
</tpCat>
<tpCat>
<TopicCatCd value="018"/>
</tpCat>
<searchKeys>
<keyword>RIVM</keyword>
<keyword>geluid</keyword>
<keyword>geluidsklassen</keyword>
<keyword>rasterdata</keyword>
<keyword>cumulatief</keyword>
<keyword>indicatief</keyword>
<keyword>geluidbelasting</keyword>
</searchKeys>
<idCredit/>
</dataIdInfo>
<dqInfo>
<dqScope>
<scpLvl>
<ScopeCd value="005"/>
</scpLvl>
</dqScope>
<dataLineage>
<statement>Het bestand 'rivm_20250801_Geluid_lden_allebronnen_2022.tif' is een rasterbestand voor gebruik in GIS software, en bevat landsdekkend het geluidsniveau in 1 dB klassen. De resolutie is 10 x 10 m.
De geluidklassen hebben betrekking op de gezamenlijke geluidbelasting in Lden (gemiddeld over een jaar) als veroorzaakt door
- rijkswegen (2022)
- gemeentelijke en provinciale wegen (2022)
- railverkeer (2023)
- luchtvaart (2022)
- industrie (2024)
- windturbines (2025)
De kaart geeft alleen een ruwe indicatie van de geluidkwaliteit en is niet geschikt om geluidniveaus in het kader van de normstelling uit de Omgevingswet te kunnen toetsen
aan 'de geluidbelasting op de gevel'. Wel biedt de kaart op meer globale schaal een goed beeld van de geluidkwaliteit van aandachtsgebieden zoals woonkernen, natuur- en stiltegebieden. De bijdrage aan de cumulatieve kaart door weg- en railverkeer is bepaald met een standaard rekenmethode (RMV2012). Deze methode maakt gebruik van digitale bestanden waarin de ligging van verkeerswegen en spoorwegen is opgenomen. De verkeersgegevens van rijkswegen en spoorwegen zijn gebaseerd op gegevens ten behoeve van richtlijn 2002/49/EG voor 2022 afkomstig van Rijkswaterstaat en Prorail. De indicatie van de geluidbelasting door provinciale en gemeentelijke wegen is gebaseerd op verkeersramingen uit 2022 (www.emissieregistratie.nl). De geluidbelasting vanwege windturbines is gebaseerd op gegevens uit 2025. Voor industriegeluid is een (indicatieve) geluidkwaliteit geraamd op basis van kentalgegevens voor verschillende typen van industrieterreinen. De geluidbelasting door luchtvaart is gebaseerd op geluidkaarten die door het Nationaal Lucht en Ruimtevaartlaboratorium zijn opgesteld (2022). Deze gezamenlijke kaart is een gecombineerd totaal van de genoemde bronnen en geeft een indicatief beeld voor de geluidkwaliteit. Hieraan kunnen geen rechten worden ontleend. Voor meer informatie, zie dit rapport: https://www.rivm.nl/bibliotheek/rapporten/680740003.pdf</statement>
</dataLineage>
</dqInfo>
<refSysInfo>
<RefSystem dimension="">
<refSysID>
<identCode Sync="FALSE" code="https://www.opengis.net/def/crs/EPSG/0/28992"/>
<idCodeSpace Sync="TRUE">EPSG</idCodeSpace>
<idVersion Sync="TRUE">4.5(8.0.1)</idVersion>
</refSysID>
</RefSystem>
</refSysInfo>
<custom>
<initialized>True</initialized>
<validationProfile>ISO</validationProfile>
</custom>
<spdoinfo>
<rastinfo>
<rasttype Sync="TRUE">Pixel</rasttype>
<rowcount Sync="TRUE">7866</rowcount>
<colcount Sync="TRUE">7109</colcount>
<rastxsz Sync="TRUE">10,000000</rastxsz>
<rastysz Sync="TRUE">10,000000</rastysz>
<rastbpp Sync="TRUE">16</rastbpp>
<vrtcount Sync="TRUE">1</vrtcount>
<rastorig Sync="TRUE">Upper Left</rastorig>
<rastcmap Sync="TRUE">FALSE</rastcmap>
<rastcomp Sync="TRUE">LZ77</rastcomp>
<rastband Sync="TRUE">1</rastband>
<rastdtyp Sync="TRUE">pixel codes</rastdtyp>
<rastifor Sync="TRUE">FGDBR</rastifor>
<rastplyr Sync="TRUE">TRUE</rastplyr>
</rastinfo>
</spdoinfo>
<spref>
<horizsys>
<planar>
<planci>
<plance Sync="TRUE">row and column</plance>
<coordrep>
<absres Sync="TRUE">10,000000</absres>
<ordres Sync="TRUE">10,000000</ordres>
</coordrep>
</planci>
</planar>
</horizsys>
</spref>
</metadata>
