PM2,5 - Fijnstof concentratie jaargemiddelde in μgram/m3 (Concentraties worden beoordeeld zonder zeezoutaftrek!)<\/SPAN><\/P><\/DIV><\/DIV><\/DIV>",
"serviceItemId": "b8396a6157a845dca0efa66186df656e",
"name": "BasisdataExtern/LuchtFijnstofPM2_5_2024",
"description": "PM2,5 - Fijnstof concentratie jaargemiddelde in μgram/m3 (Concentraties worden beoordeeld zonder zeezoutaftrek!)<\/SPAN><\/P><\/DIV><\/DIV><\/DIV>",
"extent": {
"xmin": 206861.6000000015,
"ymin": 540297.1000000015,
"xmax": 277961.6000000015,
"ymax": 618522.1000000015,
"spatialReference": {
"wkid": 28992,
"latestWkid": 28992
}
},
"initialExtent": {
"xmin": 206861.6000000015,
"ymin": 540297.1000000015,
"xmax": 277961.6000000015,
"ymax": 618522.1000000015,
"spatialReference": {
"wkid": 28992,
"latestWkid": 28992
}
},
"fullExtent": {
"xmin": 206861.6000000015,
"ymin": 540297.1000000015,
"xmax": 277961.6000000015,
"ymax": 618522.1000000015,
"spatialReference": {
"wkid": 28992,
"latestWkid": 28992
}
},
"sortableFields": "",
"bandCount": 1,
"pixelType": "F32",
"minValues": [
5.530884742736816
],
"maxValues": [
7.531980991363525
],
"meanValues": [
6.007948635682615
],
"stdvValues": [
0.20265876533594837
],
"serviceProperties": "Center<\/MosaicMethod>First<\/MosaicOperator>true<\/SortAscending><\/LockImageID><\/TileOrderField>0<\/TileOrderBase>0,000000<\/AvgImageSpacingX>0,000000<\/AvgImageSpacingY>0.0<\/ViewPointX>0.0<\/ViewPointY>0.0<\/ViewPointDefShiftX>0.0<\/ViewPointDefShiftY>None<\/CompressionMethod>75<\/CompressionQuality>0,010000<\/CompressionTolerance>Bilinear<\/SamplingMethod><\/ImageServiceProperties><\/ImageServer>",
"allowedFields": "",
"hasMultidimensions": false,
"pixelSizeX": 25,
"pixelSizeY": 25,
"meanPixelSize": 25,
"datasetFormat": "SDR",
"uncompressedSize": 35595504,
"blockWidth": 128,
"blockHeight": 128,
"compressionType": "LZ77",
"bandNames": [
"Band_1"
],
"allowCopy": true,
"allowAnalysis": true,
"itemAccess": false,
"inspectionCapabilities": "",
"minPixelSize": 0,
"maxPixelSize": 0,
"copyrightText": "",
"serviceDataType": "esriImageServiceDataTypeGeneric",
"serviceSourceType": "esriImageServiceSourceTypeDataset",
"objectIdField": "",
"fields": [],
"capabilities": "Image,Metadata,Mensuration",
"defaultMosaicMethod": "Center",
"allowedMosaicMethods": "",
"sortField": "",
"sortValue": null,
"sortAscending": true,
"mosaicOperator": "First",
"defaultCompressionQuality": 75,
"defaultResamplingMethod": "Bilinear",
"maxImageHeight": 4100,
"maxImageWidth": 15000,
"allowRasterFunction": true,
"rasterFunctionInfos": [
{
"name": "None",
"description": "",
"help": ""
}
],
"rasterTypeInfos": [
{
"name": "Raster Dataset",
"description": "Supports all ArcGIS Raster Datasets",
"help": ""
}
],
"mensurationCapabilities": "Basic",
"hasHistograms": true,
"hasColormap": false,
"hasRasterAttributeTable": false,
"minScale": 0,
"maxScale": 0,
"exportTilesAllowed": false,
"supportsStatistics": false,
"supportsAdvancedQueries": false,
"editFieldsInfo": null,
"ownershipBasedAccessControlForRasters": null,
"allowComputeTiePoints": false,
"useStandardizedQueries": true,
"advancedQueryCapabilities": {
"useStandardizedQueries": true,
"supportsStatistics": false,
"supportsOrderBy": false,
"supportsDistinct": false,
"supportsPagination": false
},
"spatialReference": {
"wkid": 28992,
"latestWkid": 28992
}
}