<?xml version="1.0" encoding="UTF-8" standalone="no"?>
<metadata xml:lang="nl">
<Esri>
<CreaDate>20260622</CreaDate>
<CreaTime>13314200</CreaTime>
<ArcGISFormat>1.0</ArcGISFormat>
<SyncOnce>FALSE</SyncOnce>
<DataProperties>
<itemProps>
<itemName Sync="TRUE">rivm_PM25_2024</itemName>
<nativeExtBox>
<westBL Sync="TRUE">206861.600000</westBL>
<eastBL Sync="TRUE">277961.600000</eastBL>
<southBL Sync="TRUE">540297.100000</southBL>
<northBL Sync="TRUE">618522.100000</northBL>
<exTypeCode Sync="TRUE">1</exTypeCode>
</nativeExtBox>
<imsContentType Sync="TRUE" export="False">002</imsContentType>
</itemProps>
<coordRef>
<type Sync="TRUE">Projected</type>
<geogcsn Sync="TRUE">GCS_Amersfoort</geogcsn>
<csUnits Sync="TRUE">Linear Unit: Meter (1.000000)</csUnits>
<projcsn Sync="TRUE">RD_New</projcsn>
<peXml Sync="TRUE">&lt;ProjectedCoordinateSystem xsi:type='typens:ProjectedCoordinateSystem' xmlns:xsi='http://www.w3.org/2001/XMLSchema-instance' xmlns:xs='http://www.w3.org/2001/XMLSchema' xmlns:typens='http://www.esri.com/schemas/ArcGIS/3.3.0'&gt;&lt;WKT&gt;PROJCS[&amp;quot;RD_New&amp;quot;,GEOGCS[&amp;quot;GCS_Amersfoort&amp;quot;,DATUM[&amp;quot;D_Amersfoort&amp;quot;,SPHEROID[&amp;quot;Bessel_1841&amp;quot;,6377397.155,299.1528128]],PRIMEM[&amp;quot;Greenwich&amp;quot;,0.0],UNIT[&amp;quot;Degree&amp;quot;,0.0174532925199433]],PROJECTION[&amp;quot;Double_Stereographic&amp;quot;],PARAMETER[&amp;quot;False_Easting&amp;quot;,155000.0],PARAMETER[&amp;quot;False_Northing&amp;quot;,463000.0],PARAMETER[&amp;quot;Central_Meridian&amp;quot;,5.38763888888889],PARAMETER[&amp;quot;Scale_Factor&amp;quot;,0.9999079],PARAMETER[&amp;quot;Latitude_Of_Origin&amp;quot;,52.15616055555555],UNIT[&amp;quot;Meter&amp;quot;,1.0],AUTHORITY[&amp;quot;EPSG&amp;quot;,28992]]&lt;/WKT&gt;&lt;XOrigin&gt;-30515500&lt;/XOrigin&gt;&lt;YOrigin&gt;-30279500&lt;/YOrigin&gt;&lt;XYScale&gt;146716411.36275291&lt;/XYScale&gt;&lt;ZOrigin&gt;-100000&lt;/ZOrigin&gt;&lt;ZScale&gt;10000&lt;/ZScale&gt;&lt;MOrigin&gt;-100000&lt;/MOrigin&gt;&lt;MScale&gt;10000&lt;/MScale&gt;&lt;XYTolerance&gt;0.001&lt;/XYTolerance&gt;&lt;ZTolerance&gt;0.001&lt;/ZTolerance&gt;&lt;MTolerance&gt;0.001&lt;/MTolerance&gt;&lt;HighPrecision&gt;true&lt;/HighPrecision&gt;&lt;WKID&gt;28992&lt;/WKID&gt;&lt;LatestWKID&gt;28992&lt;/LatestWKID&gt;&lt;/ProjectedCoordinateSystem&gt;</peXml>
</coordRef>
</DataProperties>
<SyncDate>20260622</SyncDate>
<SyncTime>16283400</SyncTime>
<ModDate>20260707</ModDate>
<ModTime>13542300</ModTime>
<ArcGISProfile>ISO19139</ArcGISProfile>
</Esri>
<mdFileID>fcbc1ead-778d-446f-8971-15a161450615</mdFileID>
<mdLang>
<languageCode value="dut">
</languageCode>
<countryCode Sync="TRUE" value="NLD">
</countryCode>
</mdLang>
<mdChar>
<CharSetCd value="004">
</CharSetCd>
</mdChar>
<mdHrLv>
<ScopeCd value="005">
</ScopeCd>
</mdHrLv>
<mdHrLvName Sync="TRUE">dataset</mdHrLvName>
<mdContact>
<rpIndName>Datateam Beleid</rpIndName>
<rpOrgName>Provincie Groningen</rpOrgName>
<rpCntInfo>
<cntPhone>
<voiceNum>050-3164911</voiceNum>
</cntPhone>
<cntAddress>
<delPoint>Sint Jansstraat 4</delPoint>
<city>Groningen</city>
<adminArea>Groningen</adminArea>
<postCode>9712 JN</postCode>
<country>NL</country>
<eMailAdd>geoportaal@provinciegroningen.nl</eMailAdd>
</cntAddress>
<cntOnlineRes>
<linkage>https://www.provinciegroningen.nl/</linkage>
</cntOnlineRes>
</rpCntInfo>
<role>
<RoleCd value="007">
</RoleCd>
</role>
<rpPosName>Geo-team</rpPosName>
<displayName>Provincie Groningen / Datateam Beleid</displayName>
</mdContact>
<mdDateSt Sync="TRUE">20260707</mdDateSt>
<mdStanName>ISO 19115</mdStanName>
<mdStanVer>Nederlands metadata profiel op ISO 19115 voor geografie 2.1.0</mdStanVer>
<distInfo>
<distFormat>
<formatName>Raster Dataset</formatName>
</distFormat>
<distributor>
<distorCont>
<rpOrgName>RIVM</rpOrgName>
<rpPosName>Afd. O&amp;M</rpPosName>
<rpCntInfo>
<cntOnlineRes>
<linkage>http://www.rivm.nl</linkage>
</cntOnlineRes>
</rpCntInfo>
<role>
<RoleCd value="005">
</RoleCd>
</role>
</distorCont>
</distributor>
</distInfo>
<dataIdInfo>
<idCitation>
<resTitle>LuchtFijnstofPM2_5_2024</resTitle>
<date>
<createDate>20240601</createDate>
</date>
<citId>
<identCode>8bc369bd-3e92-49f8-a7bd-6664d856cd5a</identCode>
</citId>
<presForm>
<PresFormCd Sync="TRUE" value="011">
</PresFormCd>
</presForm>
<resEd>2024</resEd>
</idCitation>
<idAbs>&lt;div style='text-align:Left;'&gt;&lt;div&gt;&lt;div&gt;&lt;p&gt;&lt;span&gt;PM2,5 - Fijnstof concentratie jaargemiddelde in μgram/m3 (Concentraties worden beoordeeld zonder zeezoutaftrek!)&lt;/span&gt;&lt;/p&gt;&lt;/div&gt;&lt;/div&gt;&lt;/div&gt;</idAbs>
<idPurp>PM2,5 - fijnstof concentratie jaargemiddelde in μgram/m3 (Concentraties worden beoordeeld zonder zeezoutaftrek!). Milieubelasting koppelen aan gezondheidseffecten zodat het gebruikt kan worden voor andere beleidsvelden.</idPurp>
<idStatus>
<ProgCd value="001">
</ProgCd>
</idStatus>
<resMaint>
<maintFreq>
<MaintFreqCd value="008">
</MaintFreqCd>
</maintFreq>
</resMaint>
<otherKeys>
<thesaName>
<resTitle>Interprovinciale thesaurus</resTitle>
<date>
<pubDate>2010-11-05</pubDate>
</date>
</thesaName>
<keyword>LUCHTKWALITEIT</keyword>
<keyword>VOLKSGEZONDHEID</keyword>
<keyword>WONINGEN</keyword>
<keyword>MILIEUKWALITEIT</keyword>
<keyword>WEGEN</keyword>
</otherKeys>
<searchKeys>
<keyword>LUCHTKWALITEIT</keyword>
<keyword>VOLKSGEZONDHEID</keyword>
<keyword>MILIEUKWALITEIT</keyword>
<keyword>WEGEN</keyword>
<keyword>Fijnstof</keyword>
<keyword>Milieu</keyword>
<keyword>gezondheid</keyword>
</searchKeys>
<resConst>
<Consts>
<useLimit>&lt;div style='text-align:Left;'&gt;&lt;div&gt;&lt;div&gt;&lt;p&gt;&lt;span&gt;Bestand is alleen voor intern gebruik en kan alleen uitgeleverd worden in het kader van provinciale projecten en nadat een getekende gebruikersovereenkomst is ontvangen&lt;/span&gt;&lt;span&gt;.&lt;/span&gt;&lt;/p&gt;&lt;/div&gt;&lt;/div&gt;&lt;/div&gt;</useLimit>
</Consts>
</resConst>
<resConst>
<LegConsts>
<accessConsts>
<RestrictCd value="008">
</RestrictCd>
</accessConsts>
<othConsts>Leeg|</othConsts>
</LegConsts>
</resConst>
<spatRpType>
<SpatRepTypCd value="002">
</SpatRepTypCd>
</spatRpType>
<dataLang>
<languageCode value="dut">
</languageCode>
<countryCode Sync="TRUE" value="NLD">
</countryCode>
</dataLang>
<dataChar>
<CharSetCd value="004">
</CharSetCd>
</dataChar>
<dataExt>
<geoEle>
<GeoBndBox>
<westBL>6.158</westBL>
<eastBL>7.244</eastBL>
<southBL>52.837</southBL>
<northBL>53.559</northBL>
</GeoBndBox>
</geoEle>
<geoEle>
<GeoDesc>
<geoId>
<identCode>Provincie Groningen</identCode>
</geoId>
<exTypeCode>0</exTypeCode>
</GeoDesc>
</geoEle>
</dataExt>
<envirDesc Sync="FALSE">Esri ArcGIS 13.3.4.52636</envirDesc>
<dataScale>
<equScale>
<rfDenom>10000</rfDenom>
</equScale>
</dataScale>
<idPoC>
<rpOrgName>RIVM</rpOrgName>
<rpCntInfo>
<cntOnlineRes>
<linkage>http://www.rivm.nl</linkage>
</cntOnlineRes>
<cntAddress>
<eMailAdd>info-milieukwaliteit@rivm.nl</eMailAdd>
</cntAddress>
</rpCntInfo>
<role>
<RoleCd value="003">
</RoleCd>
</role>
<rpIndName>Team Milieu Provincie Groningen</rpIndName>
</idPoC>
<tpCat>
<TopicCatCd value="007">
</TopicCatCd>
</tpCat>
<tpCat>
<TopicCatCd value="009">
</TopicCatCd>
</tpCat>
<tpCat>
<TopicCatCd value="018">
</TopicCatCd>
</tpCat>
<idCredit/>
</dataIdInfo>
<dqInfo>
<dqScope>
<scpLvl>
<ScopeCd value="005">
</ScopeCd>
</scpLvl>
</dqScope>
<report type="DQAbsExtPosAcc">
<measResult>
<QuanResult>
<quanVal>Raster 25*25 Meter</quanVal>
</QuanResult>
</measResult>
</report>
<dataLineage>
<statement>Externe dataset, bron RIVM, PM2,5 Fijnstof</statement>
</dataLineage>
</dqInfo>
<refSysInfo>
<RefSystem>
<refSysID>
<identCode code="https://www.opengis.net/def/crs/EPSG/0/28992">
</identCode>
<idCodeSpace>EPSG</idCodeSpace>
<idVersion Sync="TRUE">4.5(8.0.1)</idVersion>
</refSysID>
</RefSystem>
</refSysInfo>
<custom>
<thesaurus>Interprovinciale thesaurus</thesaurus>
<initialized>True</initialized>
<validationProfile>ISO</validationProfile>
</custom>
<spdoinfo>
<rastinfo>
<rasttype Sync="TRUE">Pixel</rasttype>
<rowcount Sync="TRUE">3129</rowcount>
<colcount Sync="TRUE">2844</colcount>
<rastxsz Sync="TRUE">25,000000</rastxsz>
<rastysz Sync="TRUE">25,000000</rastysz>
<rastbpp Sync="TRUE">32</rastbpp>
<vrtcount Sync="TRUE">1</vrtcount>
<rastorig Sync="TRUE">Upper Left</rastorig>
<rastcmap Sync="TRUE">FALSE</rastcmap>
<rastcomp Sync="TRUE">LZ77</rastcomp>
<rastband Sync="TRUE">1</rastband>
<rastdtyp Sync="TRUE">pixel codes</rastdtyp>
<rastifor Sync="TRUE">FGDBR</rastifor>
<rastplyr Sync="TRUE">TRUE</rastplyr>
</rastinfo>
</spdoinfo>
<spref>
<horizsys>
<planar>
<planci>
<plance Sync="TRUE">row and column</plance>
<coordrep>
<absres Sync="TRUE">25,000000</absres>
<ordres Sync="TRUE">25,000000</ordres>
</coordrep>
</planci>
</planar>
</horizsys>
</spref>
</metadata>
