<?xml version="1.0" encoding="UTF-8" standalone="no"?>
<metadata xml:lang="nl">
<Esri>
<CreaDate>20230222</CreaDate>
<CreaTime>16591600</CreaTime>
<ArcGISFormat>1.0</ArcGISFormat>
<SyncOnce>FALSE</SyncOnce>
<DataProperties>
<itemProps>
<itemName Sync="TRUE">Geomagazijn.GEOWERK.MIL_LUCHT_NO2_2020</itemName>
<nativeExtBox>
<westBL Sync="TRUE">206911.600000</westBL>
<eastBL Sync="TRUE">277961.600000</eastBL>
<southBL Sync="TRUE">540347.100000</southBL>
<northBL Sync="TRUE">618522.100000</northBL>
<exTypeCode Sync="TRUE">1</exTypeCode>
</nativeExtBox>
<itemLocation>
<linkage Sync="TRUE">Server=GeomagazijnDB; Service=sde:sqlserver:GeomagazijnDB; Database=Geomagazijn; User=GEOWERK; Version=sde.DEFAULT</linkage>
<protocol Sync="TRUE">ArcSDE Connection</protocol>
</itemLocation>
<imsContentType Sync="TRUE" export="False">002</imsContentType>
</itemProps>
<coordRef>
<type Sync="TRUE">Projected</type>
<geogcsn Sync="TRUE">GCS_Amersfoort</geogcsn>
<csUnits Sync="TRUE">Linear Unit: Meter (1.000000)</csUnits>
<projcsn Sync="TRUE">RD_New</projcsn>
<peXml Sync="TRUE">&lt;ProjectedCoordinateSystem xsi:type='typens:ProjectedCoordinateSystem' xmlns:xsi='http://www.w3.org/2001/XMLSchema-instance' xmlns:xs='http://www.w3.org/2001/XMLSchema' xmlns:typens='http://www.esri.com/schemas/ArcGIS/3.1.0'&gt;&lt;WKT&gt;PROJCS[&amp;quot;RD_New&amp;quot;,GEOGCS[&amp;quot;GCS_Amersfoort&amp;quot;,DATUM[&amp;quot;D_Amersfoort&amp;quot;,SPHEROID[&amp;quot;Bessel_1841&amp;quot;,6377397.155,299.1528128]],PRIMEM[&amp;quot;Greenwich&amp;quot;,0.0],UNIT[&amp;quot;Degree&amp;quot;,0.0174532925199433]],PROJECTION[&amp;quot;Double_Stereographic&amp;quot;],PARAMETER[&amp;quot;False_Easting&amp;quot;,155000.0],PARAMETER[&amp;quot;False_Northing&amp;quot;,463000.0],PARAMETER[&amp;quot;Central_Meridian&amp;quot;,5.38763888888889],PARAMETER[&amp;quot;Scale_Factor&amp;quot;,0.9999079],PARAMETER[&amp;quot;Latitude_Of_Origin&amp;quot;,52.15616055555555],UNIT[&amp;quot;Meter&amp;quot;,1.0],AUTHORITY[&amp;quot;EPSG&amp;quot;,28992]]&lt;/WKT&gt;&lt;XOrigin&gt;-30515500&lt;/XOrigin&gt;&lt;YOrigin&gt;-30279500&lt;/YOrigin&gt;&lt;XYScale&gt;146716411.36275291&lt;/XYScale&gt;&lt;ZOrigin&gt;-100000&lt;/ZOrigin&gt;&lt;ZScale&gt;10000&lt;/ZScale&gt;&lt;MOrigin&gt;-100000&lt;/MOrigin&gt;&lt;MScale&gt;10000&lt;/MScale&gt;&lt;XYTolerance&gt;0.001&lt;/XYTolerance&gt;&lt;ZTolerance&gt;0.00020000000000000001&lt;/ZTolerance&gt;&lt;MTolerance&gt;0.00020000000000000001&lt;/MTolerance&gt;&lt;HighPrecision&gt;true&lt;/HighPrecision&gt;&lt;WKID&gt;28992&lt;/WKID&gt;&lt;LatestWKID&gt;28992&lt;/LatestWKID&gt;&lt;/ProjectedCoordinateSystem&gt;</peXml>
</coordRef>
<lineage>
<Process Date="20230222" Name="Clip Raster (3)" Time="165918" ToolSource="c:\program files\arcgis\pro\Resources\ArcToolbox\toolboxes\Data Management Tools.tbx\Clip" export="">Clip T:\Geo\Milieu\Lucht\LuchtbeleidAanpassingM23022341\input\rivm_data\rivm_nsl_20220101_gm_NO22020\rivm_nsl_20220101_gm_NO22020.tif "206911,780000001 540346,322999999 278026,09 621876,300000001" T:\Geo\Milieu\Lucht\LuchtbeleidAanpassingM23022341\input\DataRIVMclip.gdb\rivm_nsl_20200715_gm_NO22020 N:\ArcGIS_SDE\APP_ArcGIS_SDE_Geomagazijn\Geomagazijn.sde\Geomagazijn.BRK.GRENS_PROV_GR_VLAK -3,402823e+38 ClippingGeometry NO_MAINTAIN_EXTENT</Process>
<Process Date="20230601" Name="" Time="123536" ToolSource="c:\program files\arcgis\pro\Resources\ArcToolbox\toolboxes\Data Management Tools.tbx\CopyRaster" export="">CopyRaster T:\Geo\Milieu\Lucht\LuchtbeleidAanpassingM23022341\input\DataRIVMclip.gdb\rivm_nsl_20200715_gm_NO22020 "N:\ArcGIS_SDE\APP_ArcGIS_SDE_Geomagazijn_GEOWERK_Muteren\Geomagazijn GEOWERK Muteren.sde\Geomagazijn.GEOWERK.MIL_LUCHT_NO2_2020" # # 3,4e+38 NONE NONE # NONE NONE "Esri Grid format" NONE CURRENT_SLICE NO_TRANSPOSE</Process>
</lineage>
</DataProperties>
<SyncDate>20230913</SyncDate>
<SyncTime>16263200</SyncTime>
<ModDate>20230913</ModDate>
<ModTime>16352900</ModTime>
<ArcGISProfile>ISO19139</ArcGISProfile>
</Esri>
<mdFileID>ac3cf5bd-2bf5-4780-9fcb-a5fabefe276a</mdFileID>
<mdLang>
<languageCode value="dut"/>
<countryCode Sync="TRUE" value="NLD"/>
</mdLang>
<mdChar>
<CharSetCd value="004"/>
</mdChar>
<mdHrLv>
<ScopeCd value="005"/>
</mdHrLv>
<mdHrLvName Sync="TRUE">dataset</mdHrLvName>
<mdContact>
<rpIndName>Afdeling iNFO</rpIndName>
<rpOrgName>Provincie Groningen</rpOrgName>
<rpCntInfo>
<cntPhone>
<voiceNum tddtty="">050-3164911</voiceNum>
</cntPhone>
<cntAddress addressType="">
<delPoint>Sint Jansstraat 4</delPoint>
<city>Groningen</city>
<adminArea>Groningen</adminArea>
<postCode>9712 JN</postCode>
<country>NL</country>
<eMailAdd>geoportaal@provinciegroningen.nl</eMailAdd>
</cntAddress>
<cntOnlineRes>
<linkage>https://www.provinciegroningen.nl/</linkage>
</cntOnlineRes>
</rpCntInfo>
<role>
<RoleCd value="007"/>
</role>
<rpPosName>GIS-team</rpPosName>
</mdContact>
<mdDateSt Sync="TRUE">20230913</mdDateSt>
<mdStanName>ISO 19115</mdStanName>
<mdStanVer>Nederlands metadata profiel op ISO 19115 voor geografie 2.1.0</mdStanVer>
<distInfo>
<distFormat>
<formatName>SDE Raster Dataset</formatName>
</distFormat>
<distributor>
<distorCont>
<rpIndName>Afd. O&amp;M </rpIndName>
<rpOrgName>RIVM</rpOrgName>
<rpCntInfo>
<cntOnlineRes>
<linkage>http://www.rivm.nl</linkage>
</cntOnlineRes>
</rpCntInfo>
<role>
<RoleCd value="005"/>
</role>
</distorCont>
</distributor>
</distInfo>
<dataIdInfo>
<idCitation>
<resTitle>LuchtNO2_2020</resTitle>
<date>
<createDate>20200601</createDate>
</date>
<citId uri="">
<identCode>fb1e56ab-2050-47af-93c1-a0428b388dee</identCode>
</citId>
<datasetSeries>
<seriesName>GES LUCHT</seriesName>
</datasetSeries>
<presForm>
<PresFormCd Sync="TRUE" value="011"/>
</presForm>
<resEd>2020</resEd>
</idCitation>
<idAbs>&lt;DIV STYLE="text-align:Left;"&gt;&lt;DIV&gt;&lt;DIV&gt;&lt;P&gt;&lt;SPAN&gt;De belasting met NO2- (Stikstofdioxide, jaargemiddelde NO2-concentratie in microgram/m3) is vertaald naar GES (gezondheidseffectscreening)-contouren.&lt;/SPAN&gt;&lt;/P&gt;&lt;/DIV&gt;&lt;/DIV&gt;&lt;/DIV&gt;</idAbs>
<idPurp>Milieubelasting koppelen aan gezondheidseffecten zodat het gebruikt kan worden voor andere beleidsvelden.</idPurp>
<idStatus>
<ProgCd value="001"/>
</idStatus>
<idPoC>
<rpIndName>Afd. O&amp;M (Mattijs Langelaar) is onze interne contactpersoon.</rpIndName>
<rpOrgName>RIVM</rpOrgName>
<rpCntInfo>
<cntAddress addressType="">
<eMailAdd>info-milieukwaliteit@rivm.nl</eMailAdd>
</cntAddress>
<cntOnlineRes>
<linkage>http://www.rivm.nl</linkage>
</cntOnlineRes>
</rpCntInfo>
<role>
<RoleCd value="003"/>
</role>
</idPoC>
<resMaint>
<maintFreq>
<MaintFreqCd value="008"/>
</maintFreq>
</resMaint>
<otherKeys>
<thesaName>
<resTitle>Interprovinciale thesaurus</resTitle>
<date>
<pubDate>2010-11-05</pubDate>
</date>
</thesaName>
<keyword>MILIEUKWALITEIT</keyword>
<keyword>VOLKSGEZONDHEID</keyword>
<keyword>LUCHTKWALITEIT</keyword>
<keyword>STIKSTOF</keyword>
</otherKeys>
<searchKeys>
<keyword>MILIEUKWALITEIT</keyword>
<keyword>VOLKSGEZONDHEID</keyword>
<keyword>LUCHTKWALITEIT</keyword>
<keyword>Luchtkwaliteit</keyword>
<keyword>stikstofdioxide</keyword>
</searchKeys>
<resConst>
<Consts>
<useLimit>&lt;DIV STYLE="text-align:Left;"&gt;&lt;DIV&gt;&lt;DIV&gt;&lt;P&gt;&lt;SPAN&gt;Bestand is alleen voor intern gebruik en kan alleen uitgeleverd worden in het kader van provinciale projecten en nadat een getekende gebruikersovereenkomst is ontvangen&lt;/SPAN&gt;&lt;/P&gt;&lt;/DIV&gt;&lt;/DIV&gt;&lt;/DIV&gt;</useLimit>
</Consts>
</resConst>
<resConst>
<LegConsts>
<accessConsts>
<RestrictCd value="008"/>
</accessConsts>
<othConsts>Leeg|</othConsts>
</LegConsts>
</resConst>
<spatRpType>
<SpatRepTypCd value="002"/>
</spatRpType>
<dataLang>
<languageCode value="dut"/>
<countryCode Sync="TRUE" value="NLD"/>
</dataLang>
<dataChar>
<CharSetCd value="004"/>
</dataChar>
<dataExt>
<geoEle>
<GeoBndBox>
<westBL>6.158</westBL>
<eastBL>7.244</eastBL>
<southBL>52.837</southBL>
<northBL>53.559</northBL>
</GeoBndBox>
</geoEle>
<geoEle>
<GeoDesc>
<geoId>
<identCode>Provincie Groningen</identCode>
</geoId>
<exTypeCode>0</exTypeCode>
</GeoDesc>
</geoEle>
</dataExt>
<envirDesc Sync="TRUE">Microsoft Windows 10 Version 10.0 (Build 19044) ; Esri ArcGIS 13.1.2.41833</envirDesc>
<dataScale>
<equScale>
<rfDenom>10000</rfDenom>
</equScale>
</dataScale>
<dataExt>
<geoEle>
<GeoBndBox esriExtentType="search">
<exTypeCode Sync="TRUE">1</exTypeCode>
<westBL Sync="TRUE">6.158315</westBL>
<eastBL Sync="TRUE">7.242619</eastBL>
<northBL Sync="TRUE">53.551369</northBL>
<southBL Sync="TRUE">52.837418</southBL>
</GeoBndBox>
</geoEle>
</dataExt>
<tpCat>
<TopicCatCd value="007"/>
</tpCat>
<tpCat>
<TopicCatCd value="009"/>
</tpCat>
<tpCat>
<TopicCatCd value="018"/>
</tpCat>
<idCredit/>
</dataIdInfo>
<dqInfo>
<dqScope>
<scpLvl>
<ScopeCd value="005"/>
</scpLvl>
</dqScope>
<dataLineage>
<statement>Externe dataset, Bron RIVM </statement>
</dataLineage>
</dqInfo>
<refSysInfo>
<RefSystem dimension="">
<refSysID>
<identCode code="https://www.opengis.net/def/crs/EPSG/0/28992"/>
<idCodeSpace>EPSG</idCodeSpace>
<idVersion Sync="TRUE">4.5(8.0.1)</idVersion>
</refSysID>
</RefSystem>
</refSysInfo>
<custom>
<thesaurus>Interprovinciale thesaurus</thesaurus>
<initialized>True</initialized>
<validationProfile>ISO</validationProfile>
</custom>
<spdoinfo>
<rastinfo>
<rasttype Sync="TRUE">Pixel</rasttype>
<rowcount Sync="TRUE">3127</rowcount>
<colcount Sync="TRUE">2842</colcount>
<rastxsz Sync="TRUE">25,000000</rastxsz>
<rastysz Sync="TRUE">25,000000</rastysz>
<rastbpp Sync="TRUE">32</rastbpp>
<vrtcount Sync="TRUE">1</vrtcount>
<rastorig Sync="TRUE">Upper Left</rastorig>
<rastcmap Sync="TRUE">FALSE</rastcmap>
<rastcomp Sync="TRUE">LZ77</rastcomp>
<rastband Sync="TRUE">1</rastband>
<rastdtyp Sync="TRUE">pixel codes</rastdtyp>
<rastifor Sync="TRUE">SDR</rastifor>
<rastplyr Sync="TRUE">TRUE</rastplyr>
</rastinfo>
</spdoinfo>
<spref>
<horizsys>
<planar>
<planci>
<plance Sync="TRUE">row and column</plance>
<coordrep>
<absres Sync="TRUE">25,000000</absres>
<ordres Sync="TRUE">25,000000</ordres>
</coordrep>
</planci>
</planar>
</horizsys>
</spref>
</metadata>
